﻿BEGIN:VCALENDAR
VERSION:2.0
PRODID:-//Willkommen bei der Unterensinger Blasmusik e.V. - ECPv6.10.1.1//NONSGML v1.0//EN
CALSCALE:GREGORIAN
METHOD:PUBLISH
X-ORIGINAL-URL:https://unterensinger-blasmusik.de
X-WR-CALDESC:Veranstaltungen für Willkommen bei der Unterensinger Blasmusik e.V.
REFRESH-INTERVAL;VALUE=DURATION:PT1H
X-Robots-Tag:noindex
X-PUBLISHED-TTL:PT1H
BEGIN:VTIMEZONE
TZID:Europe/Berlin
BEGIN:DAYLIGHT
TZOFFSETFROM:+0100
TZOFFSETTO:+0200
TZNAME:CEST
DTSTART:20250330T010000
END:DAYLIGHT
BEGIN:STANDARD
TZOFFSETFROM:+0200
TZOFFSETTO:+0100
TZNAME:CET
DTSTART:20251026T010000
END:STANDARD
END:VTIMEZONE
BEGIN:VEVENT
DTSTART;TZID=Europe/Berlin:20250628T190000
DTEND;TZID=Europe/Berlin:20250629T180000
DTSTAMP:20260421T000736
CREATED:20250220T094728Z
LAST-MODIFIED:20250220T094728Z
UID:3904-1751137200-1751220000@unterensinger-blasmusik.de
SUMMARY:Jubiläumswochenende
DESCRIPTION:
URL:https://unterensinger-blasmusik.de/event/jubilaeumswochenende/
LOCATION:Udeon Unterensingen\, Schulstraße 41\, Unterensingen\, Baden-Württemberg\, 72669\, Deutschland
END:VEVENT
BEGIN:VEVENT
DTSTART;TZID=Europe/Berlin:20250629T100000
DTEND;TZID=Europe/Berlin:20250629T180000
DTSTAMP:20260421T000736
CREATED:20250220T095205Z
LAST-MODIFIED:20250220T095205Z
UID:3909-1751191200-1751220000@unterensinger-blasmusik.de
SUMMARY:Familientag (50 Jahre Unterensinger Blasmusik)
DESCRIPTION:
URL:https://unterensinger-blasmusik.de/event/familientag-50-jahre-unterensinger-blasmusik/
LOCATION:Udeon Unterensingen\, Schulstraße 41\, Unterensingen\, Baden-Württemberg\, 72669\, Deutschland
END:VEVENT
END:VCALENDAR