﻿BEGIN:VCALENDAR
VERSION:2.0
PRODID:-//Willkommen bei der Unterensinger Blasmusik e.V. - ECPv6.10.1.1//NONSGML v1.0//EN
CALSCALE:GREGORIAN
METHOD:PUBLISH
X-WR-CALNAME:Willkommen bei der Unterensinger Blasmusik e.V.
X-ORIGINAL-URL:https://unterensinger-blasmusik.de
X-WR-CALDESC:Veranstaltungen für Willkommen bei der Unterensinger Blasmusik e.V.
REFRESH-INTERVAL;VALUE=DURATION:PT1H
X-Robots-Tag:noindex
X-PUBLISHED-TTL:PT1H
BEGIN:VTIMEZONE
TZID:Europe/Berlin
BEGIN:DAYLIGHT
TZOFFSETFROM:+0100
TZOFFSETTO:+0200
TZNAME:CEST
DTSTART:20260329T010000
END:DAYLIGHT
BEGIN:STANDARD
TZOFFSETFROM:+0200
TZOFFSETTO:+0100
TZNAME:CET
DTSTART:20261025T010000
END:STANDARD
END:VTIMEZONE
BEGIN:VEVENT
DTSTART;TZID=Europe/Berlin:20260314T180000
DTEND;TZID=Europe/Berlin:20260314T233000
DTSTAMP:20260420T094633
CREATED:20260227T130058Z
LAST-MODIFIED:20260227T083613Z
UID:4140-1773511200-1773531000@unterensinger-blasmusik.de
SUMMARY:Frühjahrsunterhaltung 2026
DESCRIPTION:Wir laden Sie herzlich zur Frühjahrsunterhaltung der Unterensinger Blasmusik ein. \nAm Samstag\, den 14. März 2026\, nehmen wir Sie unter dem Motto „Musikalische Reise rund um die Welt“ mit auf einen abwechslungsreichen Abend voller Klangfarben und Rhythmen. \nOrt: UDEON Unterensingen\nBeginn: 18:00 Uhr\nEinlass: 17:00 Uhr\nEintritt frei \nMusikalisch erwartet Sie ein vielfältiges Programm: \ndie Stammkapelle der Unterensinger Blasmusik\,\ndie Bläserklasse\,\ndie Vorstufengruppe und die Jugendkapelle in Kooperation mit der Jugend des Musikverein Köngen\,\nsowie der Heimatchor. \nFür das leibliche Wohl ist ebenfalls bestens gesorgt: Wir bewirten mit Schnitzel und Kartoffelsalat\, Kässpätzle und einer Auswahl an Getränken. \nWir freuen uns auf Ihren Besuch und einen stimmungsvollen Abend voller Musik! \nMit musikalischen Grüßen\nUnterensinger Blasmusik
URL:https://unterensinger-blasmusik.de/event/fruehjahrsunterhaltung-2026/
LOCATION:Udeon Unterensingen\, Schulstraße 41\, Unterensingen\, Baden-Württemberg\, 72669\, Deutschland
END:VEVENT
END:VCALENDAR