﻿BEGIN:VCALENDAR
VERSION:2.0
PRODID:-//Willkommen bei der Unterensinger Blasmusik e.V. - ECPv6.10.1.1//NONSGML v1.0//EN
CALSCALE:GREGORIAN
METHOD:PUBLISH
X-WR-CALNAME:Willkommen bei der Unterensinger Blasmusik e.V.
X-ORIGINAL-URL:https://unterensinger-blasmusik.de
X-WR-CALDESC:Veranstaltungen für Willkommen bei der Unterensinger Blasmusik e.V.
REFRESH-INTERVAL;VALUE=DURATION:PT1H
X-Robots-Tag:noindex
X-PUBLISHED-TTL:PT1H
BEGIN:VTIMEZONE
TZID:Europe/Berlin
BEGIN:DAYLIGHT
TZOFFSETFROM:+0100
TZOFFSETTO:+0200
TZNAME:CEST
DTSTART:20260329T010000
END:DAYLIGHT
BEGIN:STANDARD
TZOFFSETFROM:+0200
TZOFFSETTO:+0100
TZNAME:CET
DTSTART:20261025T010000
END:STANDARD
END:VTIMEZONE
BEGIN:VEVENT
DTSTART;TZID=Europe/Berlin:20260501T110000
DTEND;TZID=Europe/Berlin:20260501T170000
DTSTAMP:20260421T152513
CREATED:20260421T101123Z
LAST-MODIFIED:20260421T071241Z
UID:4178-1777633200-1777654800@unterensinger-blasmusik.de
SUMMARY:Auftritt in Köngen beim traditionellen Maifest am 1. Mai
DESCRIPTION:Unser nächster Auftritt steht an. Am 1. Mai sind wir ab 11 Uhr zu Gast beim traditionellen Maifest des Musikvereins Köngen und dem Hundesportverein Köngen in Köngen beim Festplatz beim Hundesportverein zwischen Köngen und Denkendorf.
URL:https://unterensinger-blasmusik.de/event/auftritt-in-koengen-beim-traditionellen-maifest-am-1-mai/
LOCATION:Hundesportverein Köngen\, Denkendorfer Straße 119\, Köngen\, 73257
END:VEVENT
END:VCALENDAR