﻿BEGIN:VCALENDAR
VERSION:2.0
PRODID:-//Willkommen bei der Unterensinger Blasmusik e.V. - ECPv6.10.1.1//NONSGML v1.0//EN
CALSCALE:GREGORIAN
METHOD:PUBLISH
X-ORIGINAL-URL:https://unterensinger-blasmusik.de
X-WR-CALDESC:Veranstaltungen für Willkommen bei der Unterensinger Blasmusik e.V.
REFRESH-INTERVAL;VALUE=DURATION:PT1H
X-Robots-Tag:noindex
X-PUBLISHED-TTL:PT1H
BEGIN:VTIMEZONE
TZID:Europe/Berlin
BEGIN:DAYLIGHT
TZOFFSETFROM:+0100
TZOFFSETTO:+0200
TZNAME:CEST
DTSTART:20220327T010000
END:DAYLIGHT
BEGIN:STANDARD
TZOFFSETFROM:+0200
TZOFFSETTO:+0100
TZNAME:CET
DTSTART:20221030T010000
END:STANDARD
BEGIN:DAYLIGHT
TZOFFSETFROM:+0100
TZOFFSETTO:+0200
TZNAME:CEST
DTSTART:20230326T010000
END:DAYLIGHT
BEGIN:STANDARD
TZOFFSETFROM:+0200
TZOFFSETTO:+0100
TZNAME:CET
DTSTART:20231029T010000
END:STANDARD
BEGIN:DAYLIGHT
TZOFFSETFROM:+0100
TZOFFSETTO:+0200
TZNAME:CEST
DTSTART:20240331T010000
END:DAYLIGHT
BEGIN:STANDARD
TZOFFSETFROM:+0200
TZOFFSETTO:+0100
TZNAME:CET
DTSTART:20241027T010000
END:STANDARD
BEGIN:DAYLIGHT
TZOFFSETFROM:+0100
TZOFFSETTO:+0200
TZNAME:CEST
DTSTART:20250330T010000
END:DAYLIGHT
BEGIN:STANDARD
TZOFFSETFROM:+0200
TZOFFSETTO:+0100
TZNAME:CET
DTSTART:20251026T010000
END:STANDARD
BEGIN:DAYLIGHT
TZOFFSETFROM:+0100
TZOFFSETTO:+0200
TZNAME:CEST
DTSTART:20260329T010000
END:DAYLIGHT
BEGIN:STANDARD
TZOFFSETFROM:+0200
TZOFFSETTO:+0100
TZNAME:CET
DTSTART:20261025T010000
END:STANDARD
END:VTIMEZONE
BEGIN:VEVENT
DTSTART;TZID=Europe/Berlin:20260314T180000
DTEND;TZID=Europe/Berlin:20260314T233000
DTSTAMP:20260420T064738
CREATED:20260227T130058Z
LAST-MODIFIED:20260227T083613Z
UID:4140-1773511200-1773531000@unterensinger-blasmusik.de
SUMMARY:Frühjahrsunterhaltung 2026
DESCRIPTION:Wir laden Sie herzlich zur Frühjahrsunterhaltung der Unterensinger Blasmusik ein. \nAm Samstag\, den 14. März 2026\, nehmen wir Sie unter dem Motto „Musikalische Reise rund um die Welt“ mit auf einen abwechslungsreichen Abend voller Klangfarben und Rhythmen. \nOrt: UDEON Unterensingen\nBeginn: 18:00 Uhr\nEinlass: 17:00 Uhr\nEintritt frei \nMusikalisch erwartet Sie ein vielfältiges Programm: \ndie Stammkapelle der Unterensinger Blasmusik\,\ndie Bläserklasse\,\ndie Vorstufengruppe und die Jugendkapelle in Kooperation mit der Jugend des Musikverein Köngen\,\nsowie der Heimatchor. \nFür das leibliche Wohl ist ebenfalls bestens gesorgt: Wir bewirten mit Schnitzel und Kartoffelsalat\, Kässpätzle und einer Auswahl an Getränken. \nWir freuen uns auf Ihren Besuch und einen stimmungsvollen Abend voller Musik! \nMit musikalischen Grüßen\nUnterensinger Blasmusik
URL:https://unterensinger-blasmusik.de/event/fruehjahrsunterhaltung-2026/
LOCATION:Udeon Unterensingen\, Schulstraße 41\, Unterensingen\, Baden-Württemberg\, 72669\, Deutschland
END:VEVENT
BEGIN:VEVENT
DTSTART;TZID=Europe/Berlin:20251205T170000
DTEND;TZID=Europe/Berlin:20251205T200000
DTSTAMP:20260420T064738
CREATED:20250220T095421Z
LAST-MODIFIED:20250220T095519Z
UID:3911-1764954000-1764964800@unterensinger-blasmusik.de
SUMMARY:Adventsmusik im Lichterglanz
DESCRIPTION:
URL:https://unterensinger-blasmusik.de/event/adventsmusik-im-lichterglanz-7/
LOCATION:Ortsmitte Unterensingen\, Nürtingerstraße 1\, Unterensingen\, 72669\, Deutschland
END:VEVENT
BEGIN:VEVENT
DTSTART;VALUE=DATE:20250713
DTEND;VALUE=DATE:20250714
DTSTAMP:20260420T064738
CREATED:20250530T074938Z
LAST-MODIFIED:20250530T075031Z
UID:4048-1752364800-1752451199@unterensinger-blasmusik.de
SUMMARY:Dorffest Unterensingen
DESCRIPTION:Musikalische Unteraltung durch die Unterensinger Blasmusik von 17:00 Uhr bis 19:00 Uhr.
URL:https://unterensinger-blasmusik.de/event/dorffest-unterensingen-3/
LOCATION:Ortsmitte Unterensingen\, Nürtingerstraße 1\, Unterensingen\, 72669\, Deutschland
END:VEVENT
BEGIN:VEVENT
DTSTART;TZID=Europe/Berlin:20250712T160000
DTEND;TZID=Europe/Berlin:20250712T235500
DTSTAMP:20260420T064738
CREATED:20250530T074832Z
LAST-MODIFIED:20250530T074832Z
UID:4045-1752336000-1752364500@unterensinger-blasmusik.de
SUMMARY:Dorffest Unterensingen
DESCRIPTION:Musikalische Unteraltung durch die Unterensinger Blasmusik von 16:00 Uhr bis 18:30 Uhr.
URL:https://unterensinger-blasmusik.de/event/dorffest-unterensingen-2/
LOCATION:Ortsmitte Unterensingen\, Nürtingerstraße 1\, Unterensingen\, 72669\, Deutschland
END:VEVENT
BEGIN:VEVENT
DTSTART;TZID=Europe/Berlin:20250629T100000
DTEND;TZID=Europe/Berlin:20250629T180000
DTSTAMP:20260420T064738
CREATED:20250220T095205Z
LAST-MODIFIED:20250220T095205Z
UID:3909-1751191200-1751220000@unterensinger-blasmusik.de
SUMMARY:Familientag (50 Jahre Unterensinger Blasmusik)
DESCRIPTION:
URL:https://unterensinger-blasmusik.de/event/familientag-50-jahre-unterensinger-blasmusik/
LOCATION:Udeon Unterensingen\, Schulstraße 41\, Unterensingen\, Baden-Württemberg\, 72669\, Deutschland
END:VEVENT
BEGIN:VEVENT
DTSTART;TZID=Europe/Berlin:20250628T190000
DTEND;TZID=Europe/Berlin:20250629T180000
DTSTAMP:20260420T064738
CREATED:20250220T094728Z
LAST-MODIFIED:20250220T094728Z
UID:3904-1751137200-1751220000@unterensinger-blasmusik.de
SUMMARY:Jubiläumswochenende
DESCRIPTION:
URL:https://unterensinger-blasmusik.de/event/jubilaeumswochenende/
LOCATION:Udeon Unterensingen\, Schulstraße 41\, Unterensingen\, Baden-Württemberg\, 72669\, Deutschland
END:VEVENT
BEGIN:VEVENT
DTSTART;TZID=Europe/Berlin:20250628T190000
DTEND;TZID=Europe/Berlin:20250629T000000
DTSTAMP:20260420T064738
CREATED:20250220T095020Z
LAST-MODIFIED:20250517T185224Z
UID:3906-1751137200-1751155200@unterensinger-blasmusik.de
SUMMARY:Hochwild - Die Partyband (50 Jahre Unterensinger Blasmusik)
DESCRIPTION:Ein halbes Jahrhundert Musik\, Gemeinschaft und gute Laune – das muss gefeiert werden! Zum 50-jährigen Jubiläum der Unterensinger Blasmusik holen wir euch eine Band auf die Bühne\, die richtig einheizt: HOCHWILD – die Partyband\, die keine Tanzfläche leer lässt! \nErlebt eine unvergessliche Nacht im Udeon Unterensingen voller Stimmung\, Partyhits und guter Laune. Lasst uns gemeinsam auf 50 Jahre voller Musik zurückblicken. \n— Ab sofort im Vorverkauf — \n \n 
URL:https://unterensinger-blasmusik.de/event/hochwild-die-partyband-50-jahre-unterensinger-blasmusik/
LOCATION:Udeon Unterensingen\, Schulstraße 41\, Unterensingen\, Baden-Württemberg\, 72669\, Deutschland
END:VEVENT
BEGIN:VEVENT
DTSTART;TZID=Europe/Berlin:20250529T100000
DTEND;TZID=Europe/Berlin:20250529T180000
DTSTAMP:20260420T064738
CREATED:20250220T094518Z
LAST-MODIFIED:20250220T094518Z
UID:3901-1748512800-1748541600@unterensinger-blasmusik.de
SUMMARY:Waldfest bei den Lindenhöfen
DESCRIPTION:
URL:https://unterensinger-blasmusik.de/event/waldfest-bei-den-lindenhoefen/
LOCATION:Am Wasserturm bei den Lindenhöfen\, Lindenweiler\, Unterensingen\, 72669\, Deutschland
END:VEVENT
BEGIN:VEVENT
DTSTART;TZID=Europe/Berlin:20250504T110000
DTEND;TZID=Europe/Berlin:20250504T170000
DTSTAMP:20260420T064738
CREATED:20250424T043544Z
LAST-MODIFIED:20250424T044514Z
UID:4000-1746356400-1746378000@unterensinger-blasmusik.de
SUMMARY:Tag der offenen Gärtnerei Kraushaar
DESCRIPTION:Am Sonntag\, 04.05.2025\, findet von 11:00 Uhr bis 17:00 Uhr der Tag der offenen Gärtnerei Kraushaar auf dem Kreuzackerhof in Unterensingen statt. \nDer Jugendausschuss der Unterensinger Blasmusik bewirtet mit Kaffee und Kuchen. Kuchen bieten wir selbstverständlich auch zum Mitnehmen an. Der Reinerlös aus dem Kaffee- und Kuchenverkauf kommt unserer Jugendarbeit zugute. \nWir freuen uns auf Ihr Kommen.
URL:https://unterensinger-blasmusik.de/event/tag-der-offenen-gaertnerei-kraushaar/
LOCATION:Kreuzackerhof\, 72669 Unternsingen\, Kreuzackerhof\, Unterensingen\, 72669
END:VEVENT
BEGIN:VEVENT
DTSTART;TZID=Europe/Berlin:20250315T170000
DTEND;TZID=Europe/Berlin:20250315T213000
DTSTAMP:20260420T064738
CREATED:20250219T181741Z
LAST-MODIFIED:20250219T182616Z
UID:3875-1742058000-1742074200@unterensinger-blasmusik.de
SUMMARY:Jubiläumsabend - Die Unterensinger Blasmusik wird 50
DESCRIPTION:
URL:https://unterensinger-blasmusik.de/event/jubilaeumsabend-2025/
LOCATION:Baden-Württemberg
END:VEVENT
BEGIN:VEVENT
DTSTART;TZID=Europe/Berlin:20241020T110000
DTEND;TZID=Europe/Berlin:20241020T170000
DTSTAMP:20260420T064738
CREATED:20240918T065056Z
LAST-MODIFIED:20240918T065056Z
UID:3835-1729422000-1729443600@unterensinger-blasmusik.de
SUMMARY:Hobbykünstlermarkt
DESCRIPTION:Am Sonntag\, 20. Oktober 2024\, findet von 11:00 bis 17:00 Uhr im Udeon in Unterensingen der Hobbykünstlermarkt der Unterensinger Blasmusik statt. Zahlreiche Hobbykünstler aus nah und fern präsentieren ihre Werke. \nFreuen Sie sich auf ein tolles und vielfältiges Angebot an\n– Holzkunst und Holzarbeiten\n– Weihnachtskrippen und -deko\n– Selbstgemachtes im Landhausstil\n– Acrylmalerei\n– Handarbeiten gestrickt\, genäht und gehäkelt\n– Handgefertigte Accessoires und Deko\n– Allerlei aus Filz / Filzarbeiten\n– Klöppelarbeiten\n– Upcycling\n– Schmuck\n– Allerlei Gebasteltes und Verschiedenes aus Papier\, Holz und Raysin\n– Dekorationen und Dinge aus unterschiedlichen Materialien \nFür Kinder gibt es ein Bastelangebot und Kinderschminken. \nWir bewirten mit herzhaften Speisen\, Getränken sowie Kaffee und Kuchen. \nDer Reinerlös kommt der Jugendarbeit der Unterensinger Blasmusik zu Gute. \nWir freuen uns auf Ihren Besuch!
URL:https://unterensinger-blasmusik.de/event/hobbykuenstlermarkt-3/
LOCATION:Udeon Unterensingen\, Schulstraße 41\, Unterensingen\, Baden-Württemberg\, 72669\, Deutschland
END:VEVENT
BEGIN:VEVENT
DTSTART;TZID=Europe/Berlin:20240915T110000
DTEND;TZID=Europe/Berlin:20240915T170000
DTSTAMP:20260420T064738
CREATED:20240830T095112Z
LAST-MODIFIED:20240830T095112Z
UID:3825-1726398000-1726419600@unterensinger-blasmusik.de
SUMMARY:MauldaschaHock
DESCRIPTION:Am Sonntag\, den 15.09.2024\, findet ab 11:00 Uhr der MauldaschaHock der Unterensinger Blasmusik am Bürgerhaus in Unterensingen statt. \nFreuen Sie sich auf leckere Maultaschen\, Mozzarella-Fladen\, Salate\, Rote vom Grill\, kühle Getränke sowie Kaffee und Kuchen. \nFür Kinder gibt es dieses Jahr eine Hüpfburg\, Kinderschminken und eine Malecke. Ziegenwirt Rüdi ist mit seinen Ziegen vor Ort. \nAb 13:00 Uhr unterhält die Trachtenkapelle des Musikverein Reudern. \nWir freuen uns auf Sie! \nBis dahin\, Ihre Unterensinger Blasmusik
URL:https://unterensinger-blasmusik.de/event/mauldaschahock-4/
LOCATION:Bürgerhaus Unterensingen\, Schulstraße 8\, Unterensingen\, 72669\, Deutschland
END:VEVENT
BEGIN:VEVENT
DTSTART;TZID=Europe/Berlin:20240629T160000
DTEND;TZID=Europe/Berlin:20240629T235900
DTSTAMP:20260420T064738
CREATED:20240604T061418Z
LAST-MODIFIED:20240604T061418Z
UID:3809-1719676800-1719705540@unterensinger-blasmusik.de
SUMMARY:Blasmusik im Hasenheim
DESCRIPTION:Am Samstag\, den 29.06.2024\, findet die erste gemeinsame Hocketse der Unterensinger Blasmusik und des Kleintierzüchtervereins Unterensingen „Blasmusik im Hasenheim“ statt. \nFreuen Sie sich ab 16:00 Uhr auf eine schöne Veranstaltung im Biergarten der Kleintierzüchter\, Kelterstr. 29 in Unterensingen\, mit Leckereien vom Grill und kühlen Getränken. \nDie Stammkapelle der Unterensinger Blasmusik wird ab 17:00 Uhr und ab 19:30 Uhr werden die BLECHaholics musikalisch unterhalten. \nDer Eintritt ist frei. \nWir freuen uns auf Ihren Besuch!
URL:https://unterensinger-blasmusik.de/event/blasmusik-im-hasenheim/
LOCATION:Kleintierzüchter Unterensingen\, Kelterstraße 29\, Unterensingen\, 72669\, Deutschland
END:VEVENT
BEGIN:VEVENT
DTSTART;TZID=Europe/Berlin:20240609T113000
DTEND;TZID=Europe/Berlin:20240609T140000
DTSTAMP:20260420T064738
CREATED:20240604T062000Z
LAST-MODIFIED:20240604T062000Z
UID:3811-1717932600-1717941600@unterensinger-blasmusik.de
SUMMARY:Musikfest Altbach
DESCRIPTION:Am Sonntag\, den 09.04.2024\, wird die Unterensinger Blasmusik beim Musikfest des Musikvereins Altbach auf dem Festplatz der Gemeindehalle Altbach ab 11:30 Uhr musikalisch unterhalten.
URL:https://unterensinger-blasmusik.de/event/musikfest-altbach/
LOCATION:Festplatz der Gemeindehalle Altbach\, Kirchstraße 2\, Altbach\, Baden-Württemberg\, 73776\, Deutschland
END:VEVENT
BEGIN:VEVENT
DTSTART;TZID=Europe/Berlin:20240310T170000
DTEND;TZID=Europe/Berlin:20240310T210000
DTSTAMP:20260420T064738
CREATED:20240202T204504Z
LAST-MODIFIED:20240202T204504Z
UID:3764-1710090000-1710104400@unterensinger-blasmusik.de
SUMMARY:Frühjahrsunterhaltung
DESCRIPTION:
URL:https://unterensinger-blasmusik.de/event/fruehjahrsunterhaltung-2/
LOCATION:Udeon Unterensingen\, Schulstraße 41\, Unterensingen\, Baden-Württemberg\, 72669\, Deutschland
END:VEVENT
BEGIN:VEVENT
DTSTART;TZID=Europe/Berlin:20240114T170000
DTEND;TZID=Europe/Berlin:20240114T193000
DTSTAMP:20260420T064738
CREATED:20231228T114354Z
LAST-MODIFIED:20240113T193512Z
UID:3720-1705251600-1705260600@unterensinger-blasmusik.de
SUMMARY:Projektorchester in Concert
DESCRIPTION:Wir laden Sie herzlich zum Konzert des Projektorchesters am Sonntag\, den 14.01.2024\, um 17:00 Uhr im UDEON (Schulstraße 41\, 72669 Unterensingen) ein. Einlass ab 16:30 Uhr\, der Eintritt ist frei.\nFreuen Sie sich auf ein tolles und vielfältiges Programm des Projektorchesters unter dem in Musikerkreisen bekannten Dirigenten Thomas Wieser mit über 100 Musikern aus nah und fern. Auch werden verschiedene Ensembles den Abend musikalisch mitgestalten. \nNach den großartigen Erfolgen des Projektorchesters in den letzten Jahren\, ist es dem Organisationsteam des Projektorchesters gelungen\, Thomas Wieser erneut für einen Blasorchester-Workshop zu gewinnen.\nDas Projektorchester setzt sich aus motivierten und leistungsbereiten Musikern zusammen\, die Thomas Wieser bei der Orchesterarbeit kennenlernen und zusammenspielen möchten. \nDer Workshop findet vom 12.01.2024 bis 14.01.2024 zum ersten Mal in Unterensingen im UDEON statt. Höhepunkt des Workshops ist das Konzert am Sonntag\, den 14.01.2024\, um 17:00 Uhr. \nWir freuen uns auf Ihr Kommen!
URL:https://unterensinger-blasmusik.de/event/projektorchester-in-concert/
LOCATION:Udeon Unterensingen\, Schulstraße 41\, Unterensingen\, Baden-Württemberg\, 72669\, Deutschland
END:VEVENT
BEGIN:VEVENT
DTSTART;TZID=Europe/Berlin:20231208T170000
DTEND;TZID=Europe/Berlin:20231208T200000
DTSTAMP:20260420T064738
CREATED:20230129T125851Z
LAST-MODIFIED:20230129T130630Z
UID:3578-1702054800-1702065600@unterensinger-blasmusik.de
SUMMARY:Adventsmusik im Lichterglanz
DESCRIPTION:
URL:https://unterensinger-blasmusik.de/event/adventsmusik-im-lichterglanz-6/
LOCATION:Ortsmitte Unterensingen\, Nürtingerstraße 1\, Unterensingen\, 72669\, Deutschland
END:VEVENT
BEGIN:VEVENT
DTSTART;TZID=Europe/Berlin:20231014T180000
DTEND;TZID=Europe/Berlin:20231014T220000
DTSTAMP:20260420T064738
CREATED:20230129T130724Z
LAST-MODIFIED:20230129T130724Z
UID:3594-1697306400-1697320800@unterensinger-blasmusik.de
SUMMARY:Sängerherbst Heimatchor
DESCRIPTION:
URL:https://unterensinger-blasmusik.de/event/saengerherbst-heimatchor-2/
LOCATION:Udeon Unterensingen\, Schulstraße 41\, Unterensingen\, Baden-Württemberg\, 72669\, Deutschland
END:VEVENT
BEGIN:VEVENT
DTSTART;TZID=Europe/Berlin:20230917T110000
DTEND;TZID=Europe/Berlin:20230917T180000
DTSTAMP:20260420T064738
CREATED:20230129T125652Z
LAST-MODIFIED:20230129T130619Z
UID:3574-1694948400-1694973600@unterensinger-blasmusik.de
SUMMARY:MauldaschaHock am Bürgerhaus
DESCRIPTION:Gastkapelle: Musikverein Beuren
URL:https://unterensinger-blasmusik.de/event/mauldaschahock-am-buergerhaus-2/
LOCATION:Bürgerhaus Unterensingen\, Schulstraße 8\, Unterensingen\, 72669\, Deutschland
END:VEVENT
BEGIN:VEVENT
DTSTART;TZID=Europe/Berlin:20230723T160000
DTEND;TZID=Europe/Berlin:20230723T190000
DTSTAMP:20260420T064738
CREATED:20230129T130503Z
LAST-MODIFIED:20230129T130503Z
UID:3592-1690128000-1690138800@unterensinger-blasmusik.de
SUMMARY:Tag der offenen Tür Feuerwehr
DESCRIPTION:
URL:https://unterensinger-blasmusik.de/event/tag-der-offenen-tuer-feuerwehr-2/
LOCATION:Freiwillige Feuerwehr Unterensingen\, Kelterstraße 11\, Unterensingen\, 72669\, Deutschland
END:VEVENT
BEGIN:VEVENT
DTSTART;VALUE=DATE:20230708
DTEND;VALUE=DATE:20230710
DTSTAMP:20260420T064738
CREATED:20230129T130348Z
LAST-MODIFIED:20230129T130608Z
UID:3590-1688774400-1688947199@unterensinger-blasmusik.de
SUMMARY:Dorffest Unterensingen
DESCRIPTION:
URL:https://unterensinger-blasmusik.de/event/dorffest-unterensingen/
LOCATION:Ortsmitte Unterensingen\, Nürtingerstraße 1\, Unterensingen\, 72669\, Deutschland
END:VEVENT
BEGIN:VEVENT
DTSTART;TZID=Europe/Berlin:20230518T100000
DTEND;TZID=Europe/Berlin:20230518T170000
DTSTAMP:20260420T064738
CREATED:20230129T125512Z
LAST-MODIFIED:20230129T130555Z
UID:3572-1684404000-1684429200@unterensinger-blasmusik.de
SUMMARY:Waldfest
DESCRIPTION:Gastkapellen: \nMusikverein Unterlenningen \nMusikverein Zell a.N. – Oeresslingen
URL:https://unterensinger-blasmusik.de/event/waldfest-3/
LOCATION:Am Wasserturm bei den Lindenhöfen\, Lindenweiler\, Unterensingen\, 72669\, Deutschland
END:VEVENT
BEGIN:VEVENT
DTSTART;TZID=Europe/Berlin:20230513T110000
DTEND;TZID=Europe/Berlin:20230513T170000
DTSTAMP:20260420T064738
CREATED:20230129T130258Z
LAST-MODIFIED:20230129T130544Z
UID:3583-1683975600-1683997200@unterensinger-blasmusik.de
SUMMARY:Rathauseinweihung Unterensingen
DESCRIPTION:
URL:https://unterensinger-blasmusik.de/event/rathauseinweihung-unterensingen/
LOCATION:Rathaus Unterensingen\, Kirchstraße 31\, Unterensingen\, 72669
END:VEVENT
BEGIN:VEVENT
DTSTART;TZID=Europe/Berlin:20230507T110000
DTEND;TZID=Europe/Berlin:20230507T170000
DTSTAMP:20260420T064738
CREATED:20230129T125954Z
LAST-MODIFIED:20230129T130532Z
UID:3580-1683457200-1683478800@unterensinger-blasmusik.de
SUMMARY:Tag der offenen Tür Gärtnerei Kraushaar
DESCRIPTION:
URL:https://unterensinger-blasmusik.de/event/tag-der-offenen-tuer-gaertnerein-kraushaar/
LOCATION:Kreuzackerhof\, 72669 Unternsingen\, Kreuzackerhof\, Unterensingen\, 72669
END:VEVENT
BEGIN:VEVENT
DTSTART;TZID=Europe/Berlin:20230501T140000
DTEND;TZID=Europe/Berlin:20230501T170000
DTSTAMP:20260420T064738
CREATED:20230420T104526Z
LAST-MODIFIED:20230420T084309Z
UID:3654-1682949600-1682960400@unterensinger-blasmusik.de
SUMMARY:Maihock in der Naberner Ortsmitte
DESCRIPTION:Am 1. Mai sind wir zu Gast in Nabern.\nDie Stammkapelle der Unterensinger Blasmusik wird beim Maihock des Musikvereins Nabern in der Naberner Ortsmitte am 1. Mai ab 14:00 Uhr musikalisch unterhalten.\nWir freuen uns\, in Nabern dabei sein zu dürfen.\nBis dahin\,\nIhre Unterensinger Blasmusik
URL:https://unterensinger-blasmusik.de/event/maihock-in-der-naberner-ortsmitte/
LOCATION:Nabern Ortsmitte\, Nabern
END:VEVENT
BEGIN:VEVENT
DTSTART;TZID=Europe/Berlin:20230312T150000
DTEND;TZID=Europe/Berlin:20230312T230000
DTSTAMP:20260420T064738
CREATED:20230129T125503Z
LAST-MODIFIED:20230212T203132Z
UID:3570-1678633200-1678662000@unterensinger-blasmusik.de
SUMMARY:Frühjahrsunterhaltung im UDEON
DESCRIPTION:Am Sonntag\, den 12.03.2023\, findet die diesjährige Frühjahrsunterhaltung der Unterensinger Blasmusik im UDEON in Unterensingen statt. Die Saalöffnung erfolgt um 15:00 Uhr. Der Beginn ist um 16:00 Uhr. Der Eintritt ist frei. \nFreuen Sie sich auf ein tolles und vielfältiges musikalisches Programm der Jugendgruppe und der Stammkapelle der Unterensinger Blasmusik sowie dem Heimatchor Unterensingen. \nSelbstverständlich ist auch für das leibliche Wohl bestens gesorgt. Freuen Sie sich auf leckere selbstgebackene Kuchen\, verschiedene Getränke und ein deftiges Vesper. Unsere Kuchen bieten wir auch zum Mitnehmen an. \nWir freuen uns auf Ihren Besuch!
URL:https://unterensinger-blasmusik.de/event/fruehjahrsunterhaltung-im-udeon-2/
LOCATION:Udeon Unterensingen\, Schulstraße 41\, Unterensingen\, Baden-Württemberg\, 72669\, Deutschland
END:VEVENT
BEGIN:VEVENT
DTSTART;TZID=Europe/Berlin:20221016T110000
DTEND;TZID=Europe/Berlin:20221016T170000
DTSTAMP:20260420T064738
CREATED:20220807T200423Z
LAST-MODIFIED:20220807T200423Z
UID:3498-1665918000-1665939600@unterensinger-blasmusik.de
SUMMARY:Hobbykünstlermarkt
DESCRIPTION:
URL:https://unterensinger-blasmusik.de/event/hobbykuenstlermarkt-2/
LOCATION:Udeon Unterensingen\, Schulstraße 41\, Unterensingen\, Baden-Württemberg\, 72669\, Deutschland
END:VEVENT
BEGIN:VEVENT
DTSTART;TZID=Europe/Berlin:20221008T183000
DTEND;TZID=Europe/Berlin:20221008T233000
DTSTAMP:20260420T064738
CREATED:20220929T133112Z
LAST-MODIFIED:20220929T133112Z
UID:3536-1665253800-1665271800@unterensinger-blasmusik.de
SUMMARY:Unterensinger Sängerherbst
DESCRIPTION:
URL:https://unterensinger-blasmusik.de/event/unterensinger-saengerherbst/
LOCATION:Udeon Unterensingen\, Schulstraße 41\, Unterensingen\, Baden-Württemberg\, 72669\, Deutschland
END:VEVENT
BEGIN:VEVENT
DTSTART;TZID=Europe/Berlin:20220918T110000
DTEND;TZID=Europe/Berlin:20220918T180000
DTSTAMP:20260420T064738
CREATED:20220807T200405Z
LAST-MODIFIED:20220807T200405Z
UID:3501-1663498800-1663524000@unterensinger-blasmusik.de
SUMMARY:MauldaschaHock
DESCRIPTION:
URL:https://unterensinger-blasmusik.de/event/mauldaschahock-3/
LOCATION:Bürgerhaus Unterensingen\, Schulstraße 8\, Unterensingen\, 72669\, Deutschland
END:VEVENT
BEGIN:VEVENT
DTSTART;TZID=Europe/Berlin:20220526T110000
DTEND;TZID=Europe/Berlin:20220526T170000
DTSTAMP:20260420T064738
CREATED:20220501T155435Z
LAST-MODIFIED:20220516T201029Z
UID:3458-1653562800-1653584400@unterensinger-blasmusik.de
SUMMARY:Waldfest an Himmelfahrt
DESCRIPTION:
URL:https://unterensinger-blasmusik.de/event/waldfest-an-himmelfahrt/
LOCATION:Am Wasserturm bei den Lindenhöfen\, Lindenweiler\, Unterensingen\, 72669\, Deutschland
END:VEVENT
END:VCALENDAR